BEGIN:VCALENDAR
VERSION:2.0
PRODID:-//hacksw/handcal//NONSGML v1.0//EN
CALSCALE:GREGORIAN
BEGIN:VEVENT
DTEND:20220519T134500Z
UID:69eb53f46fd78
DTSTAMP:19700101T000000Z
LOCATION:
DESCRIPTION:Für den Sport sind unsere Muskeln sehr wichtig. In unserem Kraftlabor können wir messen, wie stark Eure Muskeln sind. Genauso wie es bei Profi-Sportler*innen gemacht wird! Wollt Ihr uns also zeigen, wie stark Ihr seid?
URL;VALUE=URI:https://dev.koelner-wissenschaftsrunde.de/kwr_termine/kraftlabor/
SUMMARY:Kraftlabor
DTSTART:20220519T120000Z
END:VEVENT
END:VCALENDAR