BEGIN:VCALENDAR
VERSION:2.0
PRODID:-//hacksw/handcal//NONSGML v1.0//EN
CALSCALE:GREGORIAN
BEGIN:VEVENT
DTEND:20210608T130000Z
UID:69eb556ad470c
DTSTAMP:19700101T000000Z
LOCATION:
DESCRIPTION:Kennt Ihr Draisinen? Das sind Laufmaschinen aus Holz - sozusagen die Vorreiter unserer heutigen Fahrräder. Unser Spoho-Wissenschaftler Frank Hülsemann hat sich eine Draisine selbst gebaut und ist damit 700 Kilometer bis nach Paris gefahren.Warum? Das erfahrt Ihr in seinem Vortrag!
URL;VALUE=URI:https://dev.koelner-wissenschaftsrunde.de/kwr_termine/das-erste-fahrrad/
SUMMARY:Das erste &#8222;Fahrrad&#8220;
DTSTART:20210608T120000Z
END:VEVENT
END:VCALENDAR