BEGIN:VCALENDAR
VERSION:2.0
PRODID:-//hacksw/handcal//NONSGML v1.0//EN
CALSCALE:GREGORIAN
BEGIN:VEVENT
DTEND:20220411T103000Z
UID:69eb6d20d4f2f
DTSTAMP:19700101T000000Z
LOCATION:
DESCRIPTION:Das Wort „Mobbing“ kommt aus dem Englischen, es wurde von dem Verb „to mob“ abgeleitet und heißt so viel wie „anpöbeln, belästigen“. Auslachen, bloßstellen, ausgrenzen, schikanieren, tätlich angreifen - Mobbing hat viele Gesichter und jeden kann es treffen.
URL;VALUE=URI:https://dev.koelner-wissenschaftsrunde.de/kwr_termine/kein-joke-mobbing-unter-kindern-entstehung-und-auswege-2/
SUMMARY:&#8222;Kein Joke!&#8220; Mobbing unter Kindern &#8211; Entstehung und Auswege
DTSTART:20220411T093000Z
END:VEVENT
END:VCALENDAR