BEGIN:VCALENDAR
VERSION:2.0
PRODID:-//hacksw/handcal//NONSGML v1.0//EN
CALSCALE:GREGORIAN
BEGIN:VEVENT
DTEND:20210527T150000Z
UID:69eb6d02c108f
DTSTAMP:19700101T000000Z
LOCATION:
DESCRIPTION:Macht mit uns gemeinsam blau! Woher kommt die Farbe Blau? Dich erwartet eine spannende Entdeckungsreise und am Ende machst du sogar selber Blau!
URL;VALUE=URI:https://dev.koelner-wissenschaftsrunde.de/kwr_termine/blaue-geheimnisse-1-die-alten-roemer-pilze-schnecken-und-ein-experiment/
SUMMARY:Blaue Geheimnisse 1 &#8211; Die alten Römer, Pilze, Schnecken und ein Experiment
DTSTART:20210527T140000Z
END:VEVENT
END:VCALENDAR