BEGIN:VCALENDAR
VERSION:2.0
PRODID:-//hacksw/handcal//NONSGML v1.0//EN
CALSCALE:GREGORIAN
BEGIN:VEVENT
DTEND:20220314T143000Z
UID:69eb6d026a813
DTSTAMP:19700101T000000Z
LOCATION:
DESCRIPTION:Jeder Mensch besteht aus vielen kleinen Bausteinen, die die Wissenschaftler:innen Zellen nennen. Wusstest du, dass dein Körper aus etwa zehn Billionen Zellen besteht? Dennoch sind nicht alle Zellen gleich. Dies wird besonders deutlich, wenn man die unterschiedlichen Organe des Körpers näher betrachtet.
URL;VALUE=URI:https://dev.koelner-wissenschaftsrunde.de/kwr_termine/das-geheimnis-der-kleinsten-bausteine-deines-koerpers/
SUMMARY:Das Geheimnis der kleinsten Bausteine deines Körpers (nur für OGS-Gruppen)
DTSTART:20220314T130000Z
END:VEVENT
END:VCALENDAR