BEGIN:VCALENDAR
VERSION:2.0
PRODID:-//hacksw/handcal//NONSGML v1.0//EN
CALSCALE:GREGORIAN
BEGIN:VEVENT
DTEND:20210629T160000Z
UID:69eb593c9d43a
DTSTAMP:19700101T000000Z
LOCATION:
DESCRIPTION:Heute zeigt Euch Volker Ossenkopf-Okada seinen Bildungsweg durch die verschiedenen Wissenschaftsgfebiete und was er damit in seinem Berufsalltag alles macht. Er wird Euch berichten, wie er sich mit der Erforschung der Sterne und wie sie entstehen auseinandersetzt. Seid gespannt!
URL;VALUE=URI:https://dev.koelner-wissenschaftsrunde.de/kwr_termine/wir-befragen-wissenschaftlerinnen-warum-es-gut-ist-sich-nicht-entscheiden-zu-koennen-oder-ein-weg-zur-erforschung-der-sterne/
SUMMARY:Wir befragen Wissenschaftler*innen: Warum es gut ist, sich nicht entscheiden zu können &#8211; oder: Ein Weg zur Erforschung der Sterne
DTSTART:20210629T150000Z
END:VEVENT
END:VCALENDAR