BEGIN:VCALENDAR
VERSION:2.0
PRODID:-//hacksw/handcal//NONSGML v1.0//EN
CALSCALE:GREGORIAN
BEGIN:VEVENT
DTEND:20260117T180000Z
UID:69eb7bc3807a4
DTSTAMP:19700101T000000Z
LOCATION:
DESCRIPTION:Die Veranstaltung des Unisports bietet die Möglichkeit für alle, die schon immer mal Salsa - Tanzluft schnuppern wollten, oder ihre Skills im Fortgeschrittenen Kurs verbessern möchten!
URL;VALUE=URI:https://dev.koelner-wissenschaftsrunde.de/kwr_termine/unisport-salsa-level-1-und-2/
SUMMARY:Unisport: Salsa – Level 1 und 2
DTSTART:20260117T140000Z
END:VEVENT
END:VCALENDAR