BEGIN:VCALENDAR
VERSION:2.0
PRODID:-//hacksw/handcal//NONSGML v1.0//EN
CALSCALE:GREGORIAN
BEGIN:VEVENT
DTEND:20260401T103000Z
UID:69ec95a7e7762
DTSTAMP:19700101T000000Z
LOCATION:
DESCRIPTION:Wie wird Grundwasser zu Trinkwasser, wie kommt das in den Wasserhahn und warum bedeutet Leitungswasser trinken auch gleichzeitig unser Klima schützen?
URL;VALUE=URI:https://dev.koelner-wissenschaftsrunde.de/kwr_termine/wie-kommt-das-wasser-in-den-hahn-4/
SUMMARY:Wie kommt das Wasser in den Hahn?
DTSTART:20260401T073000Z
END:VEVENT
END:VCALENDAR