BEGIN:VCALENDAR
VERSION:2.0
PRODID:-//hacksw/handcal//NONSGML v1.0//EN
CALSCALE:GREGORIAN
BEGIN:VEVENT
DTEND:20260512T153000Z
UID:69ec9b5a6eeab
DTSTAMP:19700101T000000Z
LOCATION:
DESCRIPTION:
URL;VALUE=URI:https://dev.koelner-wissenschaftsrunde.de/kwr_termine/dlr-astroseminar-von-der-richtantenne-zur-very-long-baseline-interferometrie/
SUMMARY:DLR-Astroseminar | Von der Richtantenne zur Very Long Baseline Interferometrie
DTSTART:20260512T133000Z
END:VEVENT
END:VCALENDAR