BEGIN:VCALENDAR
VERSION:2.0
PRODID:-//hacksw/handcal//NONSGML v1.0//EN
CALSCALE:GREGORIAN
BEGIN:VEVENT
DTEND:20260305T170000Z
UID:69ea09426b390
DTSTAMP:19700101T000000Z
LOCATION:
DESCRIPTION:Kommt mit uns ein paar Stunden nach Japan!
URL;VALUE=URI:https://dev.koelner-wissenschaftsrunde.de/kwr_termine/japan-und-japanisch-kennen-lernen-2/
SUMMARY:Japan und Japanisch kennen lernen
DTSTART:20260305T150000Z
END:VEVENT
END:VCALENDAR