BEGIN:VCALENDAR
VERSION:2.0
PRODID:-//hacksw/handcal//NONSGML v1.0//EN
CALSCALE:GREGORIAN
BEGIN:VEVENT
DTEND:20220323T161500Z
UID:69ea0960b38ee
DTSTAMP:19700101T000000Z
LOCATION:
DESCRIPTION:Wie liest man kritisch ein Buch? Und wie schreibt man eine Buchbewertung? Ihr dürft selbst ein Buch auswählen, es lesen und bewerten. Eure Bewertung wird dann anderen bei der Auswahl helfen. Seid gespannt wie das funktioniert!
URL;VALUE=URI:https://dev.koelner-wissenschaftsrunde.de/kwr_termine/buchtipps-weitersagen-lesebar-goes-kinderuni-interessant/
SUMMARY:Buchtipps weitersagen &#8211; Les(e)bar goes KinderUni
DTSTART:20220309T153000Z
END:VEVENT
END:VCALENDAR