BEGIN:VCALENDAR
VERSION:2.0
PRODID:-//hacksw/handcal//NONSGML v1.0//EN
CALSCALE:GREGORIAN
BEGIN:VEVENT
DTEND:20210408T110000Z
UID:69ea0942122c6
DTSTAMP:19700101T000000Z
LOCATION:
DESCRIPTION:Robotik - wo überall finden wir Roboter im Alltag und wie unterstützen Sie uns?
URL;VALUE=URI:https://dev.koelner-wissenschaftsrunde.de/kwr_termine/die-zukunft-entdecken-robotik-und-andere-neuigkeiten/
SUMMARY:Die Zukunft entdecken: Robotik und andere Neuigkeiten
DTSTART:20210408T100000Z
END:VEVENT
END:VCALENDAR