BEGIN:VCALENDAR
VERSION:2.0
PRODID:-//hacksw/handcal//NONSGML v1.0//EN
CALSCALE:GREGORIAN
BEGIN:VEVENT
DTEND:20260202T183000Z
UID:69ea0850b52aa
DTSTAMP:19700101T000000Z
LOCATION:
DESCRIPTION:Innerhalb weniger Monate ist die Anzahl der Unternehmen und Händler, die Waren über den TikTok Shop in Deutschland vertreiben, von fünf auf über 14.000 angestiegen. Handelt es sich dabei um einen Hype oder einen neuen innovativen Vertriebskanal im Social Commerce, der den digitalen Handel grundlegend verändern wird?
URL;VALUE=URI:https://dev.koelner-wissenschaftsrunde.de/kwr_termine/der-tiktok-shop-aus-wissenschaftlicher-sicht/
SUMMARY:Der TikTok-Shop aus wissenschaftlicher Sicht
DTSTART:20260202T170000Z
END:VEVENT
END:VCALENDAR