BEGIN:VCALENDAR
VERSION:2.0
PRODID:-//hacksw/handcal//NONSGML v1.0//EN
CALSCALE:GREGORIAN
BEGIN:VEVENT
DTEND:20260309T180000Z
UID:69ea06e712d15
DTSTAMP:19700101T000000Z
LOCATION:
DESCRIPTION:Wir entdecken die geheimen Bausteine
URL;VALUE=URI:https://dev.koelner-wissenschaftsrunde.de/kwr_termine/woraus-besteht-das-leben-auf-unserem-planeten/
SUMMARY:Woraus besteht das Leben auf unserem Planeten?
DTSTART:20260309T150000Z
END:VEVENT
END:VCALENDAR