BEGIN:VCALENDAR
VERSION:2.0
PRODID:-//hacksw/handcal//NONSGML v1.0//EN
CALSCALE:GREGORIAN
BEGIN:VEVENT
DTEND:20260331T100000Z
UID:69ea05d9bf963
DTSTAMP:19700101T000000Z
LOCATION:
DESCRIPTION:Den Geheimnissen von Pilzen auf der Spur
URL;VALUE=URI:https://dev.koelner-wissenschaftsrunde.de/kwr_termine/pilze-als-lebewesen-und-zukunfts-material/
SUMMARY:Pilze als Lebewesen und Zukunfts-Material
DTSTART:20260331T080000Z
END:VEVENT
END:VCALENDAR