BEGIN:VCALENDAR
VERSION:2.0
PRODID:-//hacksw/handcal//NONSGML v1.0//EN
CALSCALE:GREGORIAN
BEGIN:VEVENT
DTEND:20211124T160000Z
UID:69e9f139c59e9
DTSTAMP:19700101T000000Z
LOCATION:
DESCRIPTION:Hier gibt es etwas zu sehen. Sich scheinbar bewegende Bilder, unmögliche Figuren, Dinge, die ganz anders sind als wir sie wahrnehmen. Führt uns die Wirklichkeit in die Irre? Täuscht uns unsere Wahrnehmung? Woran liegt das?
URL;VALUE=URI:https://dev.koelner-wissenschaftsrunde.de/kwr_termine/optische-taeuschungen-und-wie-sie-funktionieren/
SUMMARY:Optische Täuschungen und wie sie funktionieren
DTSTART:20211124T150000Z
END:VEVENT
END:VCALENDAR