BEGIN:VCALENDAR
VERSION:2.0
PRODID:-//hacksw/handcal//NONSGML v1.0//EN
CALSCALE:GREGORIAN
BEGIN:VEVENT
DTEND:20210609T150000Z
UID:69e9f12789db8
DTSTAMP:19700101T000000Z
LOCATION:
DESCRIPTION:Gibt es Lebensmittel, die uns stark machen? Oder vielleicht sogar welche, die unseren Körper schwächen? Was meint Ihr? Unsere Expertin Christine Joisten verrät Euch, was „fittes“ Essen ist.
URL;VALUE=URI:https://dev.koelner-wissenschaftsrunde.de/kwr_termine/sport-und-bewegung-die-aktive-mini-impfung/
SUMMARY:Iss Dich fit
DTSTART:20210609T140000Z
END:VEVENT
END:VCALENDAR