BEGIN:VCALENDAR
VERSION:2.0
PRODID:-//hacksw/handcal//NONSGML v1.0//EN
CALSCALE:GREGORIAN
BEGIN:VEVENT
DTEND:20210422T150000Z
UID:69e9f19b7780b
DTSTAMP:19700101T000000Z
LOCATION:
DESCRIPTION:Nachrichten und Informationen überall und jederzeit! Über das Web und Social Media direkt auf unserem Smartphone. Was davon stimmt, was nicht? Woran erkenne ich Falschmeldungen, sogenannte Fake-News?
URL;VALUE=URI:https://dev.koelner-wissenschaftsrunde.de/kwr_termine/wie-erkenne-ich-fake-news/
SUMMARY:Wie erkenne ich Fake-News?
DTSTART:20210422T133000Z
END:VEVENT
END:VCALENDAR