BEGIN:VCALENDAR
VERSION:2.0
PRODID:-//hacksw/handcal//NONSGML v1.0//EN
CALSCALE:GREGORIAN
BEGIN:VEVENT
DTEND:20260428T153000Z
UID:69e9f16d3a000
DTSTAMP:19700101T000000Z
LOCATION:
DESCRIPTION:
URL;VALUE=URI:https://dev.koelner-wissenschaftsrunde.de/kwr_termine/dlr-astroseminar-photometrische-messmethoden-und-techniken-in-der-astronomie/
SUMMARY:DLR-Astroseminar | Photometrische Messmethoden und -techniken in der Astronomie
DTSTART:20260428T133000Z
END:VEVENT
END:VCALENDAR