BEGIN:VCALENDAR
VERSION:2.0
PRODID:-//hacksw/handcal//NONSGML v1.0//EN
CALSCALE:GREGORIAN
BEGIN:VEVENT
DTEND:20251203T121500Z
UID:69e9f187af297
DTSTAMP:19700101T000000Z
LOCATION:
DESCRIPTION:Neues Mittwochsritual! Literatur ist ein Lebensmittel und die KHM ist 35 Jahre! Um dies zu feiern hat sich der Studienschwerpunkt Literarisches Schreiben mit der Kölner Stadtbibliothek zusammengetan und machen ab sofort Mittag mit Büchern.
URL;VALUE=URI:https://dev.koelner-wissenschaftsrunde.de/kwr_termine/lunch-lecture-reihe-35-literaturgeschichten/
SUMMARY:Lunch Lecture Reihe: 35 Literaturgeschichten
DTSTART:20251203T121500Z
END:VEVENT
END:VCALENDAR