BEGIN:VCALENDAR
VERSION:2.0
PRODID:-//hacksw/handcal//NONSGML v1.0//EN
CALSCALE:GREGORIAN
BEGIN:VEVENT
DTEND:20260526T160000Z
UID:69e9f12789dc3
DTSTAMP:19700101T000000Z
LOCATION:
DESCRIPTION:Universalism has been one of the key institutions of the welfare state, particularly in its Nordic form. Universal public services and relatively generous social security have been understood as societal equalizers – rational and efficient mechanisms for promoting safety, stability, social cohesion, and economic equality. The second lecture discusses the erosion of universalism as a guiding principle underlying the redistributive ethos.
URL;VALUE=URI:https://dev.koelner-wissenschaftsrunde.de/kwr_termine/scholar-in-residence-lecture-ii-the-undeserving-citizens/
SUMMARY:Scholar in Residence Lecture II: “The Undeserving Citizens”
DTSTART:20260526T143000Z
END:VEVENT
END:VCALENDAR