BEGIN:VCALENDAR
VERSION:2.0
PRODID:-//hacksw/handcal//NONSGML v1.0//EN
CALSCALE:GREGORIAN
BEGIN:VEVENT
DTEND:20260602T160000Z
UID:69e9f187a6d47
DTSTAMP:19700101T000000Z
LOCATION:
DESCRIPTION:With the “great wealth transfer” ahead, the rise of “inheritocracy” and patrimonial forms of capitalism appear increasingly likely unless new policies are introduced. The third and final lecture explores the contemporary (neo-)familistic turn and the re-familization of the economy, treating the family as a central moral institution that may constrain more equal redistribution of wealth and resources.
URL;VALUE=URI:https://dev.koelner-wissenschaftsrunde.de/kwr_termine/scholar-in-residence-lecture-iii-family-first/
SUMMARY:Scholar in Residence Lecture III: “Family First”
DTSTART:20260602T143000Z
END:VEVENT
END:VCALENDAR