BEGIN:VCALENDAR
VERSION:2.0
PRODID:-//hacksw/handcal//NONSGML v1.0//EN
CALSCALE:GREGORIAN
BEGIN:VEVENT
DTEND:20210505T160000Z
UID:69e9f16cd644e
DTSTAMP:19700101T000000Z
LOCATION:
DESCRIPTION:Welche Rechte du als Kind hast und wo sich möglicherweise Grenzen für deine Rechte ergeben?
URL;VALUE=URI:https://dev.koelner-wissenschaftsrunde.de/kwr_termine/cocuk-haklari-benim-haklarim-nelerdir/
SUMMARY:Çocuk Hakları &#8211; Benim haklarım nelerdir?
DTSTART:20210505T150000Z
END:VEVENT
END:VCALENDAR