BEGIN:VCALENDAR
VERSION:2.0
PRODID:-//hacksw/handcal//NONSGML v1.0//EN
CALSCALE:GREGORIAN
BEGIN:VEVENT
DTEND:20260331T121500Z
UID:69e9f13a18df5
DTSTAMP:19700101T000000Z
LOCATION:
DESCRIPTION:Mit welchem Trick Lehrerinnen und Lehrer Prüfungsfragen schwerer machen, und wie du dich am besten darauf vorbereitest.
URL;VALUE=URI:https://dev.koelner-wissenschaftsrunde.de/kwr_termine/puh-diese-aufgabe-ist-aber-schwer-3/
SUMMARY:„Puh, diese Aufgabe ist aber schwer!“
DTSTART:20260331T111500Z
END:VEVENT
END:VCALENDAR