BEGIN:VCALENDAR
VERSION:2.0
PRODID:-//hacksw/handcal//NONSGML v1.0//EN
CALSCALE:GREGORIAN
BEGIN:VEVENT
DTEND:20210622T153000Z
UID:69eb2d8ab8e35
DTSTAMP:19700101T000000Z
LOCATION:
DESCRIPTION:Erlebt im Schnelldurchlauf, welche Schritte dazugehören um aus einer Idee ein schönes Buch zu machen.
URL;VALUE=URI:https://dev.koelner-wissenschaftsrunde.de/kwr_termine/wie-kommt-ein-buch-in-den-laden/
SUMMARY:Wie kommt ein Buch in den Laden?
DTSTART:20210622T133000Z
END:VEVENT
END:VCALENDAR