BEGIN:VCALENDAR
VERSION:2.0
PRODID:-//hacksw/handcal//NONSGML v1.0//EN
CALSCALE:GREGORIAN
BEGIN:VEVENT
DTEND:20260114T130000Z
UID:69e8cc40a5d8a
DTSTAMP:19700101T000000Z
LOCATION:
DESCRIPTION:Das Studentische Gesundheitsmanagement (SGM) bietet Studierenden verschiedene Formate rund um das Thema Gesundheit. In Workshops und Gesundheitsaktionen geht es um Ernährung, psychische Gesundheit und den Umgang mit Stress während des Studiums.
URL;VALUE=URI:https://dev.koelner-wissenschaftsrunde.de/kwr_termine/sgm-veranstaltung-suchtmittel-legal-illegal-digital-und-ihre-auswirkungen/
SUMMARY:SGM-Veranstaltung &#8211; Suchtmittel: legal, illegal, digital und ihre Auswirkungen
DTSTART:20260114T100000Z
END:VEVENT
END:VCALENDAR