BEGIN:VCALENDAR
VERSION:2.0
PRODID:-//hacksw/handcal//NONSGML v1.0//EN
CALSCALE:GREGORIAN
BEGIN:VEVENT
DTEND:20260114T173000Z
UID:69e8cc0e45009
DTSTAMP:19700101T000000Z
LOCATION:
DESCRIPTION:
URL;VALUE=URI:https://dev.koelner-wissenschaftsrunde.de/kwr_termine/vorlesung-health-co-benefits-und-soziale-berufe-am-standort-koeln/
SUMMARY:Vorlesung &#8222;Health Co-Benefits und soziale Berufe&#8220; am Standort Köln
DTSTART:20260114T161500Z
END:VEVENT
END:VCALENDAR