BEGIN:VCALENDAR
VERSION:2.0
PRODID:-//hacksw/handcal//NONSGML v1.0//EN
CALSCALE:GREGORIAN
BEGIN:VEVENT
DTEND:20260331T143000Z
UID:69e8c993d3e5d
DTSTAMP:19700101T000000Z
LOCATION:
DESCRIPTION:Im WDR Kinderstudio produzieren wir eigene Fernsehnachrichten - Gruppe D
URL;VALUE=URI:https://dev.koelner-wissenschaftsrunde.de/kwr_termine/wie-kommen-nachrichten-ins-fernsehen-7/
SUMMARY:Wie kommen Nachrichten ins Fernsehen?
DTSTART:20260331T120000Z
END:VEVENT
END:VCALENDAR