BEGIN:VCALENDAR
VERSION:2.0
PRODID:-//hacksw/handcal//NONSGML v1.0//EN
CALSCALE:GREGORIAN
BEGIN:VEVENT
DTEND:20260220T150000Z
UID:69e8c9b3386c2
DTSTAMP:19700101T000000Z
LOCATION:
DESCRIPTION:Naturheilkundliche und komplementäre Anwendungen werden genutzt, um die Gesundheit zu fördern, Nebenwirkungen von Therapien zu lindern und das Wohlbefinden zu stärken. Bei einer Krebserkrankung können diese ergänzend zur medizinischen Therapie eingesetzt werden. In diesem Seminar erlernen sie die einfache und sichere Anwendung von Elementen der Aromapflege, Akupressur, Wickel und Auflagen und Entspannungsverfahren.
URL;VALUE=URI:https://dev.koelner-wissenschaftsrunde.de/kwr_termine/symptomlinderung-bei-einer-krebserkrankung/
SUMMARY:Symptomlinderung bei einer Krebserkrankung
DTSTART:20260220T130000Z
END:VEVENT
END:VCALENDAR