BEGIN:VCALENDAR
VERSION:2.0
PRODID:-//hacksw/handcal//NONSGML v1.0//EN
CALSCALE:GREGORIAN
BEGIN:VEVENT
DTEND:20260323T170000Z
UID:69e8c97019d68
DTSTAMP:19700101T000000Z
LOCATION:
DESCRIPTION:Wie viele Sprachen gibt es eigentlich auf dieser Welt?
URL;VALUE=URI:https://dev.koelner-wissenschaftsrunde.de/kwr_termine/ab-ins-feld-sprachenvielfalt-entdecken/
SUMMARY:Ab ins Feld! – Sprachenvielfalt entdecken
DTSTART:20260323T153000Z
END:VEVENT
END:VCALENDAR