BEGIN:VCALENDAR
VERSION:2.0
PRODID:-//hacksw/handcal//NONSGML v1.0//EN
CALSCALE:GREGORIAN
BEGIN:VEVENT
DTEND:20260130T153000Z
UID:69e8c993af62a
DTSTAMP:19700101T000000Z
LOCATION:
DESCRIPTION:Am 30. Januar 2026 laden das Institut für Bewegungs- und Sportgerontologie und die Polizei Köln zum dritten interaktiven Workshop Verkehrssicherheit im Alter ein. Der Workshop findet im Polizeipräsidium Köln (Walter-Pauli-Ring 2–6, 51103 Köln) statt und wird von Mitarbeitende der Verkehrsunfallprävention gemeinsam mit Studierenden und Dr. Kyungwan Kim von der Deutschen Sporthochschule Köln organisiert. Er richtet sich an interessierte Bürger*innen ab 60 Jahren.
URL;VALUE=URI:https://dev.koelner-wissenschaftsrunde.de/kwr_termine/workshop-verkehrssicherheit-im-alter/
SUMMARY:Workshop Verkehrssicherheit im Alter
DTSTART:20260130T130000Z
END:VEVENT
END:VCALENDAR