BEGIN:VCALENDAR
VERSION:2.0
PRODID:-//hacksw/handcal//NONSGML v1.0//EN
CALSCALE:GREGORIAN
BEGIN:VEVENT
DTEND:20260313T153000Z
UID:69eb2d80b5b6d
DTSTAMP:19700101T000000Z
LOCATION:
DESCRIPTION:Spannendes aus der Medizin rund um Mund und Zähne
URL;VALUE=URI:https://dev.koelner-wissenschaftsrunde.de/kwr_termine/gesund-im-mund-3/
SUMMARY:Gesund im Mund
DTSTART:20260313T143000Z
END:VEVENT
END:VCALENDAR