BEGIN:VCALENDAR
VERSION:2.0
PRODID:-//hacksw/handcal//NONSGML v1.0//EN
CALSCALE:GREGORIAN
BEGIN:VEVENT
DTEND:20260314T150000Z
UID:69e8c69b3fc7a
DTSTAMP:19700101T000000Z
LOCATION:
DESCRIPTION:Mit der Taube Frieda auf der Suche nach Frieden
URL;VALUE=URI:https://dev.koelner-wissenschaftsrunde.de/kwr_termine/friedenswerkstatt/
SUMMARY:„Friedenswerkstatt“
DTSTART:20260314T090000Z
END:VEVENT
END:VCALENDAR