BEGIN:VCALENDAR
VERSION:2.0
PRODID:-//hacksw/handcal//NONSGML v1.0//EN
CALSCALE:GREGORIAN
BEGIN:VEVENT
DTEND:20260113T100000Z
UID:69eb2d5d25c61
DTSTAMP:19700101T000000Z
LOCATION:
DESCRIPTION:Im Projekt arbeiten Forschende gemeinsam mit Familien von Kindern mit erhöhtem Unterstützungs- und/oder Pflegebedarf. Die Forschenden identifizieren und dokumentieren alltagstaugliche Lösungen, Unterstützungsstrategien und innovative Praktiken, die den Pflegealltag erleichtern können. Ziel ist es, dieses Erfahrungswissen zu sammeln, aufzubereiten und über eine digitale Plattform mit anderen pflegenden Familien, Fachpraxis und Öffentlichkeit zu teilen.
URL;VALUE=URI:https://dev.koelner-wissenschaftsrunde.de/kwr_termine/einladung-zum-wissenschafts-praxis-forum-pflege-neu-denken-selbsthilfe-innovationen-fuer-familien-und-partner/
SUMMARY:Einladung zum Wissenschafts-Praxis-Forum: „Pflege neu denken – Selbsthilfe-Innovationen für Familien und Partner“
DTSTART:20260113T080000Z
END:VEVENT
END:VCALENDAR