BEGIN:VCALENDAR
VERSION:2.0
PRODID:-//hacksw/handcal//NONSGML v1.0//EN
CALSCALE:GREGORIAN
BEGIN:VEVENT
DTEND:20260423T183000Z
UID:69eb2d85b5a7b
DTSTAMP:19700101T000000Z
LOCATION:
DESCRIPTION:Die diesjährige Künstlerin und Carte Blanche Fellow des ZADIK ist Lis Schröder. Im Rahmen des Fellowships erforscht sie die Verbindungen von bildender Kunst und Musik im Galeriekontext – ein Thema, das ihre medienübergreifende Praxis widerspiegelt. Die Galerie Inge Baecker ist Ausgangspunkt ihrer Arbeit, welche am 23. April in Form einer Ausstellung im ZADIK präsentiert wird.
URL;VALUE=URI:https://dev.koelner-wissenschaftsrunde.de/kwr_termine/vernissage-der-ausstellung-zwischen-klang-raum-und-archiv/
SUMMARY:Vernissage der Ausstellung: Zwischen Klang, Raum und Archiv
DTSTART:20260423T170000Z
END:VEVENT
END:VCALENDAR