BEGIN:VCALENDAR
VERSION:2.0
PRODID:-//hacksw/handcal//NONSGML v1.0//EN
CALSCALE:GREGORIAN
BEGIN:VEVENT
DTEND:20220524T140000Z
UID:69eb57838db2c
DTSTAMP:19700101T000000Z
LOCATION:
DESCRIPTION:Wer kann bspw. ein Quadrat mit drei Strichen malen? Klingt erst einmal einfach, ist es vielleicht dann auch, aber wie geht man an so eine Fragestellung heran? Wie lösen wir Probleme, was macht unser Kopf dabei und wie werden wir dabei besser?
URL;VALUE=URI:https://dev.koelner-wissenschaftsrunde.de/kwr_termine/denken-und-problemloesen-knobelaufgaben-und-klassische-probleme/
SUMMARY:Denken und Problemlösen &#8211; Knobelaufgaben und klassische Probleme
DTSTART:20220524T130000Z
END:VEVENT
END:VCALENDAR