BEGIN:VCALENDAR
VERSION:2.0
PRODID:-//hacksw/handcal//NONSGML v1.0//EN
CALSCALE:GREGORIAN
BEGIN:VEVENT
DTEND:20220310T170000Z
UID:69e8cc037932b
DTSTAMP:19700101T000000Z
LOCATION:
DESCRIPTION:Ihr kennt vielleicht das Krankheitsbild Krebs. Wir zeigen Euch, was dabei im Körper passiert, wie diese Erkrankung bisher behandelt wurde und welche neuen Ansätze es gibt, um mögliche Nebenwirkungen zu reduzieren. Werdet selbst Dedektive im Kampf gegen den Krebs.
URL;VALUE=URI:https://dev.koelner-wissenschaftsrunde.de/kwr_termine/goodbye-chemo-goodbye-krebs-neue-clevere-medikamente-zur-bekaempfung-von-krebs/
SUMMARY:Goodbye Chemo – goodbye Krebs! Neue clevere Medikamente zur Bekämpfung von Krebs
DTSTART:20220310T153000Z
END:VEVENT
END:VCALENDAR