BEGIN:VCALENDAR
VERSION:2.0
PRODID:-//hacksw/handcal//NONSGML v1.0//EN
CALSCALE:GREGORIAN
BEGIN:VEVENT
DTEND:20260112T181500Z
UID:69eb2df0b1614
DTSTAMP:19700101T000000Z
LOCATION:
DESCRIPTION:Die Internationale Wirtschaftsordnung befindet sich im Wandel. Handelskonflikte, geopolitische Spannungen und strategische Abhängigkeiten stellen bewährte Mechanismen der internationalen  Kooperation infrage. In dieser Ringvorlesung setzen wir uns mit den zentralen Herausforderungen auseinander, vor denen die Wirtschaftspolitik in einer Welt zwischen globaler Verflechtung und wachsenden Unsicherheiten steht.
URL;VALUE=URI:https://dev.koelner-wissenschaftsrunde.de/kwr_termine/ringvorlesung-digitales-zentralbankgeld-revolution-oder-evolution-des-geldsystems/
SUMMARY:Ringvorlesung: Digitales Zentralbankgeld &#8211; Revolution oder Evolution des Geldsystems?
DTSTART:20260112T164500Z
END:VEVENT
END:VCALENDAR