BEGIN:VCALENDAR
VERSION:2.0
PRODID:-//hacksw/handcal//NONSGML v1.0//EN
CALSCALE:GREGORIAN
BEGIN:VEVENT
DTEND:20260121T121500Z
UID:69eb2d8fbb7af
DTSTAMP:19700101T000000Z
LOCATION:
DESCRIPTION:Neues Mittwochsritual! Literatur ist ein Lebensmittel und die KHM ist 35 Jahre! Um dies zu feiern hat sich der Studienschwerpunkt Literarisches Schreiben mit der Kölner Stadtbibliothek zusammengetan und machen ab sofort Mittag mit Büchern.
URL;VALUE=URI:https://dev.koelner-wissenschaftsrunde.de/kwr_termine/lunch-lectures-mit-nadja-kuechenmeister-denis-johnson/
SUMMARY:Lunch Lectures mit Nadja Küchenmeister &#8211; Denis Johnson
DTSTART:20260121T121500Z
END:VEVENT
END:VCALENDAR