BEGIN:VCALENDAR
VERSION:2.0
PRODID:-//hacksw/handcal//NONSGML v1.0//EN
CALSCALE:GREGORIAN
BEGIN:VEVENT
DTEND:20260310T150000Z
UID:69eb2dc7e7a18
DTSTAMP:19700101T000000Z
LOCATION:
DESCRIPTION:Es gibt viele verschiedene Gründe, weshalb Kinder, Jugendliche und Erwachsene nicht oder nicht mehr mit dem Mund sprechen können.
URL;VALUE=URI:https://dev.koelner-wissenschaftsrunde.de/kwr_termine/mit-kopf-hand-und-auge-sprechen-2/
SUMMARY:Mit Kopf, Hand und Auge sprechen!
DTSTART:20260310T140000Z
END:VEVENT
END:VCALENDAR