BEGIN:VCALENDAR
VERSION:2.0
PRODID:-//hacksw/handcal//NONSGML v1.0//EN
CALSCALE:GREGORIAN
BEGIN:VEVENT
DTEND:20230115T070000Z
UID:69eb2d94b548d
DTSTAMP:19700101T000000Z
LOCATION:
DESCRIPTION:Wenn Ihr von Februar bis April 2023 an den KinderUniversitäts-Veranstaltungen der Universität zu Köln teilnehmen möchtet, dann meldet Euch vom 20.12.22 bis 15.1.23 an! Vom Quantencomputer über Tierbeobachtungen bis zur Untersuchung von Sprache im Labor wartet auf Euch ein buntes Programm.
URL;VALUE=URI:https://dev.koelner-wissenschaftsrunde.de/kwr_termine/anmeldestart-an-der-uni-koeln-2/
SUMMARY:Anmeldestart für die KinderUni-Veranstaltungen der Universität zu Köln
DTSTART:20221220T070000Z
END:VEVENT
END:VCALENDAR