BEGIN:VCALENDAR
VERSION:2.0
PRODID:-//hacksw/handcal//NONSGML v1.0//EN
CALSCALE:GREGORIAN
BEGIN:VEVENT
DTEND:20210609T153000Z
UID:69e8b039301e1
DTSTAMP:19700101T000000Z
LOCATION:
DESCRIPTION:Wie ist das Sonnensystem entstanden? Wie viele Planeten gibt es? Wer hat die meisten Monde? Gibt es Leben auf anderen Planeten? Wir geben Dir die Antworten auf diese Fragen.
URL;VALUE=URI:https://dev.koelner-wissenschaftsrunde.de/kwr_termine/eine-reise-durch-unser-sonnensystem/
SUMMARY:Eine Reise durch unser Sonnensystem
DTSTART:20210609T140000Z
END:VEVENT
END:VCALENDAR