BEGIN:VCALENDAR
VERSION:2.0
PRODID:-//hacksw/handcal//NONSGML v1.0//EN
CALSCALE:GREGORIAN
BEGIN:VEVENT
DTEND:20260116T183000Z
UID:69e8b0a554884
DTSTAMP:19700101T000000Z
LOCATION:
DESCRIPTION:Artist in Residence Henry Solomon. Der in Los Angeles lebende Saxophonist, Komponist und Produzent Henry Solomon verbringt eine Woche als Artist in Residence an der HfMT, um mit Studierenden der Jazz- und Pop-Studiengänge zusammenzuarbeiten.
URL;VALUE=URI:https://dev.koelner-wissenschaftsrunde.de/kwr_termine/oeffentliche-generalprobe-der-hfmt-deep-dive-cologne/
SUMMARY:Öffentliche Generalprobe der HfMT &#8211; Deep Dive Cologne
DTSTART:20260116T183000Z
END:VEVENT
END:VCALENDAR