BEGIN:VCALENDAR
VERSION:2.0
PRODID:-//hacksw/handcal//NONSGML v1.0//EN
CALSCALE:GREGORIAN
BEGIN:VEVENT
DTEND:20251213T150000Z
UID:69e8b1ecc7682
DTSTAMP:19700101T000000Z
LOCATION:
DESCRIPTION:Mikrobiologie – Performance – Musik: Mit einem hochauflösenden Mikroskop, einem analogen Synthesizer und ihren mehr als menschlichen Körpern begegnen die Performer*innen in Cryptobiosis sich selbst und dem Publikum als Science Fiction-Wesen, die sich in Texten, Bewegungen und Klängen mit der Umwelt verbinden. Eine poetische Kontaktaufnahme mit den Sphären des Unsichtbaren und des Anderen im Eigenen.
URL;VALUE=URI:https://dev.koelner-wissenschaftsrunde.de/kwr_termine/studiobuehne-cryptobiosis/
SUMMARY:Performance der studiobühne: Cryptobiosis
DTSTART:20251213T150000Z
END:VEVENT
END:VCALENDAR