BEGIN:VCALENDAR
VERSION:2.0
PRODID:-//hacksw/handcal//NONSGML v1.0//EN
CALSCALE:GREGORIAN
BEGIN:VEVENT
DTEND:20260122T190000Z
UID:69e8ae4c83415
DTSTAMP:19700101T000000Z
LOCATION:
DESCRIPTION:Als Beitrag zum 35-jährigem Jubiläum der KHM lädt die Reihe soundings im Wintersemester 25/26 Absolvent*innen aus der Zeit der Professoren Anthony Moore und Peter Kiefer und aus der Zeit seit 2015 ein. Sound war sehr früh ein Teil des Studienangebotes der KHM. So verwundert es nicht, dass daraus inzwischen eine ganze Reihe renommierter Künstler*innen hervorgegangen sind.
URL;VALUE=URI:https://dev.koelner-wissenschaftsrunde.de/kwr_termine/soundings-052-multilogue/
SUMMARY:soundings #052: multilogue
DTSTART:20260122T190000Z
END:VEVENT
END:VCALENDAR