BEGIN:VCALENDAR
VERSION:2.0
PRODID:-//hacksw/handcal//NONSGML v1.0//EN
CALSCALE:GREGORIAN
BEGIN:VEVENT
DTEND:20220411T150000Z
UID:69e8a53f44732
DTSTAMP:19700101T000000Z
LOCATION:
DESCRIPTION:Wie wird Grundwasser zu Trinkwasser und wie kommt es in den Wasserhahn? Und wieviel Wasser versteckt sich in euren Jeans und Smartphones? Mit spannenden Experimenten stillen wir euren Wasser-Wissens-Durst!
URL;VALUE=URI:https://dev.koelner-wissenschaftsrunde.de/kwr_termine/wie-kommt-das-wasser-in-den-hahn-und-wo-versteckt-sich-virtuelles-wasser-gruppe-2/
SUMMARY:Wie kommt das Wasser in den Hahn? Und wo versteckt sich &#8222;virtuelles Wasser&#8220;? (Gruppe 2)
DTSTART:20220411T120000Z
END:VEVENT
END:VCALENDAR