BEGIN:VCALENDAR
VERSION:2.0
PRODID:-//hacksw/handcal//NONSGML v1.0//EN
CALSCALE:GREGORIAN
BEGIN:VEVENT
DTEND:20220326T160000Z
UID:69e8a382e29b3
DTSTAMP:19700101T000000Z
LOCATION:
DESCRIPTION:Die die amerikanische Weltraumbehörde NASA hat in den 1970er Jahren die Pioneer- und Voyager-Sonden losgeschickt, um die Grenzen unseres Sonnensystems zu erkunden. Inzwischen sind sie wirklich am Rande angekommen. Wie sieht unser Heimatplanet denn von dort aus? In dem Workshop erfahren wir Spannendes über die bisherigen Weltraummissionen.
URL;VALUE=URI:https://dev.koelner-wissenschaftsrunde.de/kwr_termine/nachrichten-von-einem-kleinen-blauen-punkt-was-wir-einem-raumschiff-mitgeben-wuerden/
SUMMARY:Nachrichten von einem kleinen blauen Punkt: Was wir einem Raumschiff mitgeben würden
DTSTART:20220326T130000Z
END:VEVENT
END:VCALENDAR