BEGIN:VCALENDAR
VERSION:2.0
PRODID:-//hacksw/handcal//NONSGML v1.0//EN
CALSCALE:GREGORIAN
BEGIN:VEVENT
DTEND:20260504T173000Z
UID:69e8a12e28c4b
DTSTAMP:19700101T000000Z
LOCATION:
DESCRIPTION:Antike Papyri stellen eine einzigartige Informationsquelle zu verschiedenen Facetten des antiken Lebens dar. Da sie großenteils als Gebrauchstexte des Alltags mit einem praktischen Zweck verfasst wurden, gewähren sie uns einen ungefilterten Blick auf das Leben der Menschen in der Antike und auf die administrative Organisation ihrer Gemeinden. Dr. Riccardo Vecchiato von der Universität zu Köln gibt Einblicke dazu.
URL;VALUE=URI:https://dev.koelner-wissenschaftsrunde.de/kwr_termine/wie-wurde-ein-antiker-staat-verwaltet-gesellschaft-und-institutionen-in-den-griechischen-papyri-aus-dem-aegypten-der-ptolemaeerzeit-ca-332-bis-30-v-chr/
SUMMARY:Wie wurde ein antiker Staat verwaltet? Gesellschaft und Institutionen in den griechischen Papyri aus dem Ägypten der Ptolemäerzeit (ca. 332 bis 30 v.Chr.)
DTSTART:20260504T160000Z
END:VEVENT
END:VCALENDAR