BEGIN:VCALENDAR
VERSION:2.0
PRODID:-//hacksw/handcal//NONSGML v1.0//EN
CALSCALE:GREGORIAN
BEGIN:VEVENT
DTEND:20210617T154500Z
UID:69e8a144453df
DTSTAMP:19700101T000000Z
LOCATION:
DESCRIPTION:Ihr dürft Wissenschaftler*innen Fragen stellen! Heute geht es darum, was im Kopf passiert, bis Text auf Papier bzw. am Bildschirm entsteht. Wie lernt man eigentlich schreiben? Und wie kann ich es so formulieren, dass alle oder nur ganz bestimmte Leser*innen es verstehen?
URL;VALUE=URI:https://dev.koelner-wissenschaftsrunde.de/kwr_termine/wir-befragen-wissenschaftlerinnen-vom-text-im-kopf-zum-schreiben-am-bildschirm/
SUMMARY:Wir befragen Wissenschaftler*innen: Vom Text im Kopf zum Schreiben am Bildschirm
DTSTART:20210617T150000Z
END:VEVENT
END:VCALENDAR