BEGIN:VCALENDAR
VERSION:2.0
PRODID:-//hacksw/handcal//NONSGML v1.0//EN
CALSCALE:GREGORIAN
BEGIN:VEVENT
DTEND:20260310T180000Z
UID:69eb5798ca988
DTSTAMP:19700101T000000Z
LOCATION:
DESCRIPTION:Ein Organismus wie etwa unser Körper besteht aus vielen verschiedenen winzigen Zellen. Diese haben unterschiedliche Aufgaben und Eigenschaften.
URL;VALUE=URI:https://dev.koelner-wissenschaftsrunde.de/kwr_termine/ein-puzzle-zum-riechen-und-schmecken-wir-erforschen-unsere-sinne-gruppe-b/
SUMMARY:Ein Puzzle zum Riechen und Schmecken: Wir erforschen unsere Sinne &#8211; Gruppe B
DTSTART:20260310T163000Z
END:VEVENT
END:VCALENDAR